BEGIN:VCALENDAR
VERSION:2.0
PRODID:-//DIGITAL FACTORY//EVENTS MAKER V1.6.14//EN
CALSCALE:GREGORIAN
BEGIN:VEVENT
DTEND:20230316
UID:69e759adee647
DTSTAMP:20260421T110413Z
CATEGORIES:Tasting
LOCATION:Virtuell 
DESCRIPTION:Register now for our virtual and onsite beer tastings.    Our certified Beer-Sommelier Patrick Kramer offers virtual and onsite beer tastings.    In small groups you will challenge your taste buds\, expand your knowledge and dive into the world of beer culture!    If you are interested to join or like to organize your own event\, pleaste contact us.    Cheers!    Melden Sie sich jetzt für unsere virtuellen und Vor-Ort-Bierverkostungen an.    Unser zertifizierter Biersommelier Patrick Kramer bietet virtuelle und Vor-Ort-Bierverkostungen an.    In kleinen Gruppen können Sie Ihre Geschmacksnerven herausfordern\, Ihr Wissen erweitern und in die Welt der Bierkultur eintauchen!    Wenn Sie Interesse haben mitzumachen oder Ihre eigene Veranstaltung organisieren möchten\, kontaktieren Sie uns bitte.    Prost!    &nbsp\;
URL;VALUE=URI:https://kramer.beer/events-kalender-craft-beer-probieren-und-anstossen/event/beer-sommelier-tasting-virtual/
SUMMARY:Virtual Beer Tasting
DTSTART:20230316
RRULE:FREQ=YEARLY;INTERVAL=1;UNTIL=20230317T000000Z;
END:VEVENT
END:VCALENDAR
