BEGIN:VCALENDAR
VERSION:2.0
PRODID:-//DIGITAL FACTORY//EVENTS MAKER V1.6.14//EN
CALSCALE:GREGORIAN
BEGIN:VEVENT
DTEND:20191108
UID:69e6386979e05
DTSTAMP:20260420T143001Z
CATEGORIES:Festival\,Tasting
LOCATION:Altes Kraftwerk Birsstrasse 301, Basel, BS, 4052, CH
DESCRIPTION:Unser Craft Bier ist bereit für die Craft Basel Anfang November    Save the Date! Am Samstag 9. November\, von 16-23 Uhr\, ist unsere Premiere an der Craft Basel! Ein paar hundert Liter frisches Craft Bier stehen bereit\, um Eure Geschmacks- und Geruchsinne zu erfreuen. Zusammen mit allen teilnehmenden Kleinbrauereien und Spezialgästen aus Italien wird es ein Super Anlass\, der uns die kühleren Tage versüssen wird ? Wir freuen uns wahnsinnig auf Euren Besuch und ein weiteres Heimspiel ?    Samstag\, 9. Nov. 2019\, 16-23 Uhr  Altes Kraftwerk  Birsstrasse 301  4052 Basel    Mehr Informationen: https://www.bier-ideen.ch/craft-basel    &nbsp\;
URL;VALUE=URI:https://kramer.beer/events-kalender-craft-beer-probieren-und-anstossen/event/craft-basel/
SUMMARY:Craft Basel
DTSTART:20191108
END:VEVENT
END:VCALENDAR
